BEGIN:VCALENDAR
VERSION:2.0
PRODID:-//Sabre//Sabre VObject 4.5.8//EN
CALSCALE:GREGORIAN
BEGIN:VEVENT
UID:sabre-vobject-02b865e6-0d9f-49e0-8ad9-9f7913db3816
DTSTAMP:20260421T102237Z
SUMMARY:Krabbelgruppe Kaisheim Mittwoch vormittag
DESCRIPTION:https://keb-donauries.de/veranstaltungen/krabbelgruppe-kaisheim
 -mittwoch-vormittag_id217621
DTSTART;TZID=Europe/Berlin:20240703T090000
DTEND;TZID=Europe/Berlin:20240703T103000
LOCATION:Krabbelgruppenraum Kaisheim\, Hauptstraße 44\, 86687 Kaisheim
END:VEVENT
END:VCALENDAR
