BEGIN:VCALENDAR
VERSION:2.0
PRODID:-//Sabre//Sabre VObject 4.5.8//EN
CALSCALE:GREGORIAN
BEGIN:VEVENT
UID:sabre-vobject-0d99f28b-7c4a-4deb-bbf7-09c2abd637b0
DTSTAMP:20260421T104341Z
SUMMARY:Krabbelgruppe Wolferstadt
DESCRIPTION:https://keb-donauries.de/veranstaltungen/krabbelgruppe-wolferst
 adt_id207845
DTSTART;TZID=Europe/Berlin:20240703T093000
DTEND;TZID=Europe/Berlin:20240703T110000
LOCATION:Kath. Pfarrheim Wolferstadt\, Am Kirchberg 7\, 86709 Wolferstadt
END:VEVENT
END:VCALENDAR
