BEGIN:VCALENDAR
VERSION:2.0
PRODID:-//Sabre//Sabre VObject 4.5.8//EN
CALSCALE:GREGORIAN
BEGIN:VEVENT
UID:sabre-vobject-9669c54c-6b50-477d-bf6f-6a0dce05a974
DTSTAMP:20260419T142806Z
SUMMARY:Eltern-Kind-Gruppe - Wir bis vier - Freitag Nordheim
DESCRIPTION:https://keb-donauries.de/veranstaltungen/eltern-kind-gruppe-wir
 -bis-vier-freitag-nordheim_id207746
DTSTART;TZID=Europe/Berlin:20240705T090000
DTEND;TZID=Europe/Berlin:20240705T103000
LOCATION:Feuerwehrhaus Nordheim\, Pestalozzistraße 4\, 86609 Donauwörth
END:VEVENT
END:VCALENDAR
