BEGIN:VCALENDAR
VERSION:2.0
PRODID:-//Sabre//Sabre VObject 4.5.8//EN
CALSCALE:GREGORIAN
BEGIN:VEVENT
UID:sabre-vobject-70aebd2a-563c-4be2-807c-590dca0f6d18
DTSTAMP:20260421T120818Z
SUMMARY:Krabbelfrösche Dienstag - Asbach-Bäumenheim
DESCRIPTION:https://keb-donauries.de/veranstaltungen/krabbelfroesche-dienst
 ag-asbach-baeumenheim_id190320
DTSTART;TZID=Europe/Berlin:20230919T090000
DTEND;TZID=Europe/Berlin:20230919T103000
LOCATION:Pfarrheim Asbach-Bäumenheim\, Römerstraße 30\, 86663 Asbach-Bä
 umenheim
END:VEVENT
END:VCALENDAR
