BEGIN:VCALENDAR
VERSION:2.0
PRODID:-//Sabre//Sabre VObject 4.5.8//EN
CALSCALE:GREGORIAN
BEGIN:VEVENT
UID:sabre-vobject-88ea1063-f72a-4aaa-b199-243dbcf61c4e
DTSTAMP:20260420T185456Z
SUMMARY:Bildungsfahrt nach Murnau und Staffelsee
DESCRIPTION:https://keb-donauries.de/veranstaltungen/bildungsfahrt-nach-mur
 nau-und-staffelsee_id182879
DTSTART;TZID=Europe/Berlin:20230920T080000
LOCATION:Kath. Pfarrzentrum Rain\, Hauptstraße 35\, 86641 Rain
END:VEVENT
END:VCALENDAR
