BEGIN:VCALENDAR
VERSION:2.0
PRODID:-//Sabre//Sabre VObject 4.5.8//EN
CALSCALE:GREGORIAN
BEGIN:VEVENT
UID:sabre-vobject-d3786de4-d4b9-4ec3-881d-7889039c644d
DTSTAMP:20260423T092334Z
SUMMARY:Eltern-Kind-Gruppe KDFB Holzheim Gruppe Mittwoch I
DESCRIPTION:https://keb-donauries.de/veranstaltungen/eltern-kind-gruppe-kdf
 b-holzheim-gruppe-mittwoch-i_id182816
DTSTART;TZID=Europe/Berlin:20230531T083000
DTEND;TZID=Europe/Berlin:20230531T100000
LOCATION:Gruppenraum im Feuerwehrhaus Pessenburgheim\, Ringstraße 3\, 8668
 4 Holzheim
END:VEVENT
END:VCALENDAR
