BEGIN:VCALENDAR
VERSION:2.0
PRODID:-//Sabre//Sabre VObject 4.5.8//EN
CALSCALE:GREGORIAN
BEGIN:VEVENT
UID:sabre-vobject-8d4fe503-7fad-410e-b771-7428908f43ec
DTSTAMP:20260421T090059Z
SUMMARY:Bildungsfahrt nach Bayreuth
DESCRIPTION:https://keb-donauries.de/veranstaltungen/bildungsfahrt-nach-bay
 reuth_id148828
DTSTART;TZID=Europe/Berlin:20221126T080000
LOCATION:Rathaus Maihingen\, Josef-Haas-Straße 2\, 86747 Maihingen
END:VEVENT
END:VCALENDAR
