BEGIN:VCALENDAR
VERSION:2.0
PRODID:-//Sabre//Sabre VObject 4.5.8//EN
CALSCALE:GREGORIAN
BEGIN:VEVENT
UID:sabre-vobject-3bd8ff3e-6fbf-4b1c-938d-673b9dc4fc2c
DTSTAMP:20260420T163208Z
SUMMARY:Kirchenführung in der Basilika Maria Brünnlein Wemding
DESCRIPTION:https://keb-donauries.de/veranstaltungen/kirchenfuehrung-in-der
 -basilika-maria-bruennlein-wemding_id136721
DTSTART;TZID=Europe/Berlin:20220516T094500
LOCATION:Basilika Maria Brünnlein\, Oettinger Straße 103\, 86650 Wemding
END:VEVENT
END:VCALENDAR
