BEGIN:VCALENDAR
VERSION:2.0
PRODID:-//Sabre//Sabre VObject 4.5.8//EN
CALSCALE:GREGORIAN
BEGIN:VEVENT
UID:sabre-vobject-9fd883e8-a6c3-4d8b-9316-aa79974f2b53
DTSTAMP:20260425T141534Z
SUMMARY:„Die Ros‘ blüht ohn’ Warum“ - Angelus Silesius
DESCRIPTION:https://keb-donauries.de/veranstaltungen/die-ros-blueht-ohn-war
 um-angelus-silesius_id136563
DTSTART;TZID=Europe/Berlin:20220520T193000
LOCATION:Maria-Ward-Realschule\, Herrenstraße 15\, 86757 Wallerstein
END:VEVENT
END:VCALENDAR
